BEGIN:VCALENDAR
VERSION:2.0
PRODID:-//Tukios.com/
BEGIN:VEVENT
UID:b606e985-7aa9-43c9-b6b0-4d57c31f52f2@www.bellmortuary.com
DTSTAMP:20260424T234754Z
DTSTART:20260502T170000Z
DTEND:20260502T180000Z
SUMMARY:Celebration of Life
DESCRIPTION:
URL:https://www.bellmortuary.com/obituaries/mary-alford
LOCATION:Lily Lake Eagle Creek Park 6358 Eagle Creek Parkway  
	Indianapolis IN 46278
GEO:39.8696005;-86.2961332
END:VEVENT
END:VCALENDAR